Workbook
Name Currency: INPUTS!$D$8

Sheet Cover

Sheet Project Info

Sheet Disclamer

Sheet Intro

Sheet Definitions
A6: 1. Capital expenditures
B7: ▪ Capital expenditures (CAPEX) are costs that occur when purchasing, improving or maintaining physical assets of an investment project. These costs should be stated in the spreadsheet under the appropriate cost category. Eligible capital expenditure refers to investments in tangible or intangible assets that are necessary for the project's implementation and comply with the grant's funding rules. Non-eligible capital expenditure includes costs that do not meet the grant’s criteria.
A11: 2. Sources of financing
B12: Own funds means financing an investment entirely from a company's internal resources, such as retained earnings, accumulated reserves, or shareholder contributions. This approach avoids financial liabilities and interest costs but may limit the available capital for expansion or diversification.
B13: Own funds + Grant is option that combines a company’s internal financial resources with a non-repayable grant from a government, EU program, or other funding body. The grant reduces the financial burden and improves investment feasibility, allowing businesses to undertake larger or riskier projects while preserving some of their own capital.
B14: Standard Loan is a traditional bank loan where a company borrows funds and repays them with interest over a predetermined period. This financing method allows businesses to spread investment costs over time but increases financial liabilities and requires sufficient creditworthiness to secure favorable terms.
B15: Loan + Grant is a combination of debt financing and a non-repayable grant, reducing the amount that needs to be borrowed and lowering overall financing costs. This structure makes projects more financially viable by decreasing the repayment burden while still allowing access to additional capital.
B16: Green Loan is loan specifically designed to finance projects with environmental benefits, such as renewable energy, energy efficiency, or sustainability-focused initiatives. These loans often come with more favorable terms, such as lower interest rates or longer repayment periods, to incentivize environmentally responsible investments.
B17: Capital Rebate Loan is a financial instrument supported by the European Structural and Investment Funds (ESIF), where up to 50% of the loan principal is non-repayable. This significantly reduces borrowing costs and makes it an attractive option for projects aligned with EU priorities, such as innovation, infrastructure, or sustainability.
B18: Standard Bonds are fixed-income securities issued by companies or governments to raise capital from institutional investors, such as pension funds, insurance companies, or investment firms. These bonds provide a predictable return for investors while offering long-term financing for large-scale projects without immediate repayment obligations like loans.
B19: Green Bonds are issued to fund environmentally or socially responsible projects, often with incentives linked to achieving sustainability targets. They attract institutional investors focused on ESG (Environmental, Social, and Governance) criteria, potentially offering better financing terms and enhancing a company’s reputation in sustainable finance markets.

Sheet Dashboard
B5: 1. Identification of the project
B7: Name of the project beneficiary
B9: Name of the investment project
B12: 2. Summary of results
B14: CAPEX
B15: Estimated cost of planning processes | C15: =SUM(INPUTS!D21:W22)+SUM(INPUTS!D49:W50) -> 0
B16: Estimated cost of installation | C16: =SUM(INPUTS!D24:W29)+SUM(INPUTS!D52:W57) -> 865883
B17: Estimated equipment cost | C17: =SUM(INPUTS!D31:W37)+SUM(INPUTS!D59:W65) -> 509391
B18: Other(s) | C18: =SUM(INPUTS!D38:W42)+SUM(INPUTS!D66:W69) -> 50000
B19: Non-refundable VAT | C19: =IF(INPUTS!D14="NO",SUM(INPUTS!D44:W44)+SUM(INPUTS!D71:W71),0) -> 343818.5
B20: TOTAL (EUR) | C20: =SUM(C15:C19) -> 1769092.5
B22: 3. Comparator of different financial options
B24: Breakdown of costs/Source of financing | C24: Own funds | D24: Own funds + grant | E24: Standard loan | F24: Standard loan + grant | G24: Green loan | H24: Capital rebate loan | I24: BONDS (Standard II) | J24: BONDS (EuGBS - SLB)
B25: CAPEX/Principal (EUR) | C25: ='Own Funds'!C10 -> 1769092.5 | D25: ='Own funds + Grant'!C14 -> 909546.25 | E25: ='Standard loan'!C10 -> 1769092.5 | F25: ='Loan + Grant'!C12 -> 909546.25 | G25: ='Green loan'!C12 -> 1769092.5 | H25: ='Capital rebate loan (FIs)'!C11 -> 909546.25 | I25: ='Bonds (standard II)'!C17 -> 1769092.5 | J25: ='Bonds (EuGBS-SLB)'!C17 -> 1769092.5
B26: Interests (EUR) | C26: 0 | D26: 0 | E26: ='Standard loan'!F10 -> 521963.22 | F26: ='Loan + Grant'!F12 -> 268357.76 | G26: ='Green loan'!F12 -> 466665.76 | H26: ='Capital rebate loan (FIs)'!F10 -> 268357.76 | I26: ='Bonds (standard II)'!F16 -> 884546.25 | J26: ='Bonds (EuGBS-SLB)'!F16 -> 849164.4
B27: Preparation costs (EUR) | C27: ='Own Funds'!C8 -> 5307.2775 | D27: ='Own funds + Grant'!C10 -> 14152.74 | E27: ='Standard loan'!C7 -> 5307.2775 | F27: ='Loan + Grant'!C9 -> 22238.656 | G27: ='Green loan'!C9 -> 12383.647 | H27: ='Capital rebate loan (FIs)'!C7 -> 6366.8237 | I27: ='Bonds (standard II)'!C8 -> 38920.035 | J27: ='Bonds (EuGBS-SLB)'!C8 -> 44227.312
B28: Other financial costs (EUR) | C28: 0 | D28: 0 | E28: 0 | F28: 0 | G28: 0 | H28: 0 | I28: ='Bonds (standard II)'!C13 -> 35381.85 | J28: ='Bonds (EuGBS-SLB)'!C13 -> 53072.775
B29: Total costs (EUR) | C29: =SUM(C25:C28) -> 1774399.8 | D29: =SUM(D25:D28) -> 923698.99 | E29: =SUM(E25:E28) -> 2296363 | F29: =SUM(F25:F28) -> 1200142.7 | G29: =SUM(G25:G28) -> 2248141.9 | H29: =SUM(H25:H28) -> 1184270.8 | I29: =SUM(I25:I28) -> 2727940.6 | J29: =SUM(J25:J28) -> 2715557

Sheet INPUTS
B4: Yes
B5: No
B7: Generic input parameters | C7: Unit | D7: Value
B8: Currency used in the model | C8: # | D8: EUR | E8: Note: Currency code must be inserted here
B9: =Currency&" to EUR conversion ratio" -> EUR to EUR conversion ratio | C9: # | D9: 1
B10: First year of infrastructure roll-out | D10: 2025
B11: Number of roll-out years | C11: Year | D11: 1
B12: Co-financing rate of the eligible costs | C12: % | D12: 0.5
B13: Reference period | C13: Year | D13: 20
B14: Is VAT refundable for the investor? | D14: No
B17: Cashflow projections
B19: ELIGIBLE capital expenditure | D19: =D10 -> 2025 | E19: =D19+1 -> 2026 | F19: =E19+1 -> 2027 | G19: =F19+1 -> 2028 | H19: =G19+1 -> 2029 | I19: =H19+1 -> 2030 | J19: =I19+1 -> 2031 | K19: =J19+1 -> 2032 | L19: =K19+1 -> 2033 | ... W19: =V19+1 -> 2044 | X19: Economic lifetime | Y19: Residual Value
B21: 1. Planning/design fees | C21: =Currency -> EUR | D21: =IF(D$19>($D$10+$D$11-1),0,"") | E21: =IF(E$19>($D$10+$D$11-1),0,"") -> 0 | F21: =IF(F$19>($D$10+$D$11-1),0,"") -> 0 | G21: =IF(G$19>($D$10+$D$11-1),0,"") -> 0 | H21: =IF(H$19>($D$10+$D$11-1),0,"") -> 0 | I21: =IF(I$19>($D$10+$D$11-1),0,"") -> 0 | J21: =IF(J$19>($D$10+$D$11-1),0,"") -> 0 | K21: =IF(K$19>($D$10+$D$11-1),0,"") -> 0 | ... W21: =IF(W$19>($D$10+$D$11-1),0,"") -> 0 | X21: 0 | Y21: 0
B22: 2. Land purchase | C22: =Currency -> EUR | D22: =IF(D$19>($D$10+$D$11-1),0,"") | E22: =IF(E$19>($D$10+$D$11-1),0,"") -> 0 | F22: =IF(F$19>($D$10+$D$11-1),0,"") -> 0 | G22: =IF(G$19>($D$10+$D$11-1),0,"") -> 0 | H22: =IF(H$19>($D$10+$D$11-1),0,"") -> 0 | I22: =IF(I$19>($D$10+$D$11-1),0,"") -> 0 | J22: =IF(J$19>($D$10+$D$11-1),0,"") -> 0 | K22: =IF(K$19>($D$10+$D$11-1),0,"") -> 0 | ... W22: =IF(W$19>($D$10+$D$11-1),0,"") -> 0 | X22: 0 | Y22: 0
B23: 3. Building and construction
B24: a. Construction elements | C24: =Currency -> EUR | D24: =IF(D$19>($D$10+$D$11-1),0,"") | E24: =IF(E$19>($D$10+$D$11-1),0,"") -> 0 | F24: =IF(F$19>($D$10+$D$11-1),0,"") -> 0 | G24: =IF(G$19>($D$10+$D$11-1),0,"") -> 0 | H24: =IF(H$19>($D$10+$D$11-1),0,"") -> 0 | I24: =IF(I$19>($D$10+$D$11-1),0,"") -> 0 | J24: =IF(J$19>($D$10+$D$11-1),0,"") -> 0 | K24: =IF(K$19>($D$10+$D$11-1),0,"") -> 0 | ... W24: =IF(W$19>($D$10+$D$11-1),0,"") -> 0 | X24: 40 | Y24: =IF(X24>$D$13-$D$11,SUM(D24:W24)*((X24-$D$13+$D$11)/X24),0) -> 0
B25: b. Insulation and facade | C25: =Currency -> EUR | D25: 433207 | E25: =IF(E$19>($D$10+$D$11-1),0,"") -> 0 | F25: =IF(F$19>($D$10+$D$11-1),0,"") -> 0 | G25: =IF(G$19>($D$10+$D$11-1),0,"") -> 0 | H25: =IF(H$19>($D$10+$D$11-1),0,"") -> 0 | I25: =IF(I$19>($D$10+$D$11-1),0,"") -> 0 | J25: =IF(J$19>($D$10+$D$11-1),0,"") -> 0 | K25: =IF(K$19>($D$10+$D$11-1),0,"") -> 0 | L25: =IF(L$19>($D$10+$D$11-1),0,"") -> 0 | ... W25: =IF(W$19>($D$10+$D$11-1),0,"") -> 0 | X25: 40 | Y25: =IF(X25>$D$13-$D$11,SUM(D25:W25)*((X25-$D$13+$D$11)/X25),0) -> 227433.68
B26: c. Windows | C26: =Currency -> EUR | D26: 286681 | E26: =IF(E$19>($D$10+$D$11-1),0,"") -> 0 | F26: =IF(F$19>($D$10+$D$11-1),0,"") -> 0 | G26: =IF(G$19>($D$10+$D$11-1),0,"") -> 0 | H26: =IF(H$19>($D$10+$D$11-1),0,"") -> 0 | I26: =IF(I$19>($D$10+$D$11-1),0,"") -> 0 | J26: =IF(J$19>($D$10+$D$11-1),0,"") -> 0 | K26: =IF(K$19>($D$10+$D$11-1),0,"") -> 0 | L26: =IF(L$19>($D$10+$D$11-1),0,"") -> 0 | ... W26: =IF(W$19>($D$10+$D$11-1),0,"") -> 0 | X26: 20 | Y26: =IF(X26>$D$13-$D$11,SUM(D26:W26)*((X26-$D$13+$D$11)/X26),0) -> 14334.05
B27: d. Seismic retrofit reinforcements | C27: =Currency -> EUR | D27: =IF(D$19>($D$10+$D$11-1),0,"") | E27: =IF(E$19>($D$10+$D$11-1),0,"") -> 0 | F27: =IF(F$19>($D$10+$D$11-1),0,"") -> 0 | G27: =IF(G$19>($D$10+$D$11-1),0,"") -> 0 | H27: =IF(H$19>($D$10+$D$11-1),0,"") -> 0 | I27: =IF(I$19>($D$10+$D$11-1),0,"") -> 0 | J27: =IF(J$19>($D$10+$D$11-1),0,"") -> 0 | K27: =IF(K$19>($D$10+$D$11-1),0,"") -> 0 | ... W27: =IF(W$19>($D$10+$D$11-1),0,"") -> 0 | X27: 40 | Y27: =IF(X27>$D$13-$D$11,SUM(D27:W27)*((X27-$D$13+$D$11)/X27),0) -> 0
B28: e. Green infrastructure (NBS) | C28: =Currency -> EUR | D28: =IF(D$19>($D$10+$D$11-1),0,"") | E28: =IF(E$19>($D$10+$D$11-1),0,"") -> 0 | F28: =IF(F$19>($D$10+$D$11-1),0,"") -> 0 | G28: =IF(G$19>($D$10+$D$11-1),0,"") -> 0 | H28: =IF(H$19>($D$10+$D$11-1),0,"") -> 0 | I28: =IF(I$19>($D$10+$D$11-1),0,"") -> 0 | J28: =IF(J$19>($D$10+$D$11-1),0,"") -> 0 | K28: =IF(K$19>($D$10+$D$11-1),0,"") -> 0 | ... W28: =IF(W$19>($D$10+$D$11-1),0,"") -> 0 | X28: 20 | Y28: =IF(X28>$D$13-$D$11,SUM(D28:W28)*((X28-$D$13+$D$11)/X28),0) -> 0
B29: f. Other | C29: =Currency -> EUR | D29: 145995 | E29: =IF(E$19>($D$10+$D$11-1),0,"") -> 0 | F29: =IF(F$19>($D$10+$D$11-1),0,"") -> 0 | G29: =IF(G$19>($D$10+$D$11-1),0,"") -> 0 | H29: =IF(H$19>($D$10+$D$11-1),0,"") -> 0 | I29: =IF(I$19>($D$10+$D$11-1),0,"") -> 0 | J29: =IF(J$19>($D$10+$D$11-1),0,"") -> 0 | K29: =IF(K$19>($D$10+$D$11-1),0,"") -> 0 | L29: =IF(L$19>($D$10+$D$11-1),0,"") -> 0 | ... W29: =IF(W$19>($D$10+$D$11-1),0,"") -> 0 | X29: 20 | Y29: =IF(X29>$D$13-$D$11,SUM(D29:W29)*((X29-$D$13+$D$11)/X29),0) -> 7299.75
B30: 4. Plant and machinery | Y30: =IF(X30>$D$13-$D$11,SUM(D30:W30)*((X30-$D$13+$D$11)/X30),0) -> 0
B31: a. Heating, ventilation, and air conditioning | C31: =Currency -> EUR | D31: 266774 | E31: =IF(E$19>($D$10+$D$11-1),0,"") -> 0 | F31: =IF(F$19>($D$10+$D$11-1),0,"") -> 0 | G31: =IF(G$19>($D$10+$D$11-1),0,"") -> 0 | H31: =IF(H$19>($D$10+$D$11-1),0,"") -> 0 | I31: =IF(I$19>($D$10+$D$11-1),0,"") -> 0 | J31: =IF(J$19>($D$10+$D$11-1),0,"") -> 0 | K31: =IF(K$19>($D$10+$D$11-1),0,"") -> 0 | L31: =IF(L$19>($D$10+$D$11-1),0,"") -> 0 | ... W31: =IF(W$19>($D$10+$D$11-1),0,"") -> 0 | X31: 15 | Y31: =IF(X31>$D$13-$D$11,SUM(D31:W31)*((X31-$D$13+$D$11)/X31),0) -> 0
B32: b. Solar power plant | C32: =Currency -> EUR | D32: 36897 | E32: =IF(E$19>($D$10+$D$11-1),0,"") -> 0 | F32: =IF(F$19>($D$10+$D$11-1),0,"") -> 0 | G32: =IF(G$19>($D$10+$D$11-1),0,"") -> 0 | H32: =IF(H$19>($D$10+$D$11-1),0,"") -> 0 | I32: =IF(I$19>($D$10+$D$11-1),0,"") -> 0 | J32: =IF(J$19>($D$10+$D$11-1),0,"") -> 0 | K32: =IF(K$19>($D$10+$D$11-1),0,"") -> 0 | L32: =IF(L$19>($D$10+$D$11-1),0,"") -> 0 | ... W32: =IF(W$19>($D$10+$D$11-1),0,"") -> 0 | X32: 20 | Y32: =IF(X32>$D$13-$D$11,SUM(D32:W32)*((X32-$D$13+$D$11)/X32),0) -> 1844.85
B33: c. Battery energy storage system | C33: =Currency -> EUR | D33: =IF(D$19>($D$10+$D$11-1),0,"") | E33: =IF(E$19>($D$10+$D$11-1),0,"") -> 0 | F33: =IF(F$19>($D$10+$D$11-1),0,"") -> 0 | G33: =IF(G$19>($D$10+$D$11-1),0,"") -> 0 | H33: =IF(H$19>($D$10+$D$11-1),0,"") -> 0 | I33: =IF(I$19>($D$10+$D$11-1),0,"") -> 0 | J33: =IF(J$19>($D$10+$D$11-1),0,"") -> 0 | K33: =IF(K$19>($D$10+$D$11-1),0,"") -> 0 | ... W33: =IF(W$19>($D$10+$D$11-1),0,"") -> 0 | X33: 10 | Y33: =IF(X33>$D$13-$D$11,SUM(D33:W33)*((X33-$D$13+$D$11)/X33),0) -> 0
B34: d. eCharging equipment | C34: =Currency -> EUR | D34: =IF(D$19>($D$10+$D$11-1),0,"") | E34: =IF(E$19>($D$10+$D$11-1),0,"") -> 0 | F34: =IF(F$19>($D$10+$D$11-1),0,"") -> 0 | G34: =IF(G$19>($D$10+$D$11-1),0,"") -> 0 | H34: =IF(H$19>($D$10+$D$11-1),0,"") -> 0 | I34: =IF(I$19>($D$10+$D$11-1),0,"") -> 0 | J34: =IF(J$19>($D$10+$D$11-1),0,"") -> 0 | K34: =IF(K$19>($D$10+$D$11-1),0,"") -> 0 | ... W34: =IF(W$19>($D$10+$D$11-1),0,"") -> 0 | X34: 40 | Y34: =IF(X34>$D$13-$D$11,SUM(D34:W34)*((X34-$D$13+$D$11)/X34),0) -> 0
B35: e. IT equipment and sensors | C35: =Currency -> EUR | D35: =IF(D$19>($D$10+$D$11-1),0,"") | E35: =IF(E$19>($D$10+$D$11-1),0,"") -> 0 | F35: =IF(F$19>($D$10+$D$11-1),0,"") -> 0 | G35: =IF(G$19>($D$10+$D$11-1),0,"") -> 0 | H35: =IF(H$19>($D$10+$D$11-1),0,"") -> 0 | I35: =IF(I$19>($D$10+$D$11-1),0,"") -> 0 | J35: =IF(J$19>($D$10+$D$11-1),0,"") -> 0 | K35: =IF(K$19>($D$10+$D$11-1),0,"") -> 0 | ... W35: =IF(W$19>($D$10+$D$11-1),0,"") -> 0 | X35: 10 | Y35: =IF(X35>$D$13-$D$11,SUM(D35:W35)*((X35-$D$13+$D$11)/X35),0) -> 0
B36: f. Other electric equipment | C36: =Currency -> EUR | D36: 13272 | E36: =IF(E$19>($D$10+$D$11-1),0,"") -> 0 | F36: =IF(F$19>($D$10+$D$11-1),0,"") -> 0 | G36: =IF(G$19>($D$10+$D$11-1),0,"") -> 0 | H36: =IF(H$19>($D$10+$D$11-1),0,"") -> 0 | I36: =IF(I$19>($D$10+$D$11-1),0,"") -> 0 | J36: =IF(J$19>($D$10+$D$11-1),0,"") -> 0 | K36: =IF(K$19>($D$10+$D$11-1),0,"") -> 0 | L36: =IF(L$19>($D$10+$D$11-1),0,"") -> 0 | ... W36: =IF(W$19>($D$10+$D$11-1),0,"") -> 0 | X36: 10 | Y36: =IF(X36>$D$13-$D$11,SUM(D36:W36)*((X36-$D$13+$D$11)/X36),0) -> 0
B37: g. Indoor lighting | C37: =Currency -> EUR | D37: 192448 | E37: =IF(E$19>($D$10+$D$11-1),0,"") -> 0 | F37: =IF(F$19>($D$10+$D$11-1),0,"") -> 0 | G37: =IF(G$19>($D$10+$D$11-1),0,"") -> 0 | H37: =IF(H$19>($D$10+$D$11-1),0,"") -> 0 | I37: =IF(I$19>($D$10+$D$11-1),0,"") -> 0 | J37: =IF(J$19>($D$10+$D$11-1),0,"") -> 0 | K37: =IF(K$19>($D$10+$D$11-1),0,"") -> 0 | L37: =IF(L$19>($D$10+$D$11-1),0,"") -> 0 | ... W37: =IF(W$19>($D$10+$D$11-1),0,"") -> 0 | X37: 10 | Y37: =IF(X37>$D$13-$D$11,SUM(D37:W37)*((X37-$D$13+$D$11)/X37),0) -> 0
B38: 5. Contingencies | C38: =Currency -> EUR | D38: 0 | E38: =IF(E$19>($D$10+$D$11-1),0,"") -> 0 | F38: =IF(F$19>($D$10+$D$11-1),0,"") -> 0 | G38: =IF(G$19>($D$10+$D$11-1),0,"") -> 0 | H38: =IF(H$19>($D$10+$D$11-1),0,"") -> 0 | I38: =IF(I$19>($D$10+$D$11-1),0,"") -> 0 | J38: =IF(J$19>($D$10+$D$11-1),0,"") -> 0 | K38: =IF(K$19>($D$10+$D$11-1),0,"") -> 0 | L38: =IF(L$19>($D$10+$D$11-1),0,"") -> 0 | ... W38: =IF(W$19>($D$10+$D$11-1),0,"") -> 0 | X38: 0 | Y38: =IF(X38>$D$13-$D$11,SUM(D38:W38)*((X38-$D$13+$D$11)/X38),0) -> 0
B39: 6. Price adjustment | C39: =Currency -> EUR | D39: =IF(D$19>($D$10+$D$11-1),0,"") | E39: =IF(E$19>($D$10+$D$11-1),0,"") -> 0 | F39: =IF(F$19>($D$10+$D$11-1),0,"") -> 0 | G39: =IF(G$19>($D$10+$D$11-1),0,"") -> 0 | H39: =IF(H$19>($D$10+$D$11-1),0,"") -> 0 | I39: =IF(I$19>($D$10+$D$11-1),0,"") -> 0 | J39: =IF(J$19>($D$10+$D$11-1),0,"") -> 0 | K39: =IF(K$19>($D$10+$D$11-1),0,"") -> 0 | ... W39: =IF(W$19>($D$10+$D$11-1),0,"") -> 0 | X39: 0 | Y39: =IF(X39>$D$13-$D$11,SUM(D39:W39)*((X39-$D$13+$D$11)/X39),0) -> 0
B40: 7. Publicity | C40: =Currency -> EUR | D40: =IF(D$19>($D$10+$D$11-1),0,"") | E40: =IF(E$19>($D$10+$D$11-1),0,"") -> 0 | F40: =IF(F$19>($D$10+$D$11-1),0,"") -> 0 | G40: =IF(G$19>($D$10+$D$11-1),0,"") -> 0 | H40: =IF(H$19>($D$10+$D$11-1),0,"") -> 0 | I40: =IF(I$19>($D$10+$D$11-1),0,"") -> 0 | J40: =IF(J$19>($D$10+$D$11-1),0,"") -> 0 | K40: =IF(K$19>($D$10+$D$11-1),0,"") -> 0 | ... W40: =IF(W$19>($D$10+$D$11-1),0,"") -> 0 | X40: 0 | Y40: =IF(X40>$D$13-$D$11,SUM(D40:W40)*((X40-$D$13+$D$11)/X40),0) -> 0
B41: 8. Supervision during contrusction implementation | C41: =Currency -> EUR | D41: =IF(D$19>($D$10+$D$11-1),0,"") | E41: =IF(E$19>($D$10+$D$11-1),0,"") -> 0 | F41: =IF(F$19>($D$10+$D$11-1),0,"") -> 0 | G41: =IF(G$19>($D$10+$D$11-1),0,"") -> 0 | H41: =IF(H$19>($D$10+$D$11-1),0,"") -> 0 | I41: =IF(I$19>($D$10+$D$11-1),0,"") -> 0 | J41: =IF(J$19>($D$10+$D$11-1),0,"") -> 0 | K41: =IF(K$19>($D$10+$D$11-1),0,"") -> 0 | ... W41: =IF(W$19>($D$10+$D$11-1),0,"") -> 0 | X41: 0 | Y41: =IF(X41>$D$13-$D$11,SUM(D41:W41)*((X41-$D$13+$D$11)/X41),0) -> 0
B42: 9. Technical assistance | C42: =Currency -> EUR | D42: =IF(D$19>($D$10+$D$11-1),0,"") | E42: =IF(E$19>($D$10+$D$11-1),0,"") -> 0 | F42: =IF(F$19>($D$10+$D$11-1),0,"") -> 0 | G42: =IF(G$19>($D$10+$D$11-1),0,"") -> 0 | H42: =IF(H$19>($D$10+$D$11-1),0,"") -> 0 | I42: =IF(I$19>($D$10+$D$11-1),0,"") -> 0 | J42: =IF(J$19>($D$10+$D$11-1),0,"") -> 0 | K42: =IF(K$19>($D$10+$D$11-1),0,"") -> 0 | ... W42: =IF(W$19>($D$10+$D$11-1),0,"") -> 0 | X42: 0 | Y42: =IF(X42>$D$13-$D$11,SUM(D42:W42)*((X42-$D$13+$D$11)/X42),0) -> 0
B43: 10. Sub-TOTAL | C43: =Currency -> EUR | D43: =SUM(D21:D42) -> 1375274 | E43: =SUM(E21:E42) -> 0 | F43: =SUM(F21:F42) -> 0 | G43: =SUM(G21:G42) -> 0 | H43: =SUM(H21:H42) -> 0 | I43: =SUM(I21:I42) -> 0 | J43: =SUM(J21:J42) -> 0 | K43: =SUM(K21:K42) -> 0 | ... W43: =SUM(W21:W42) -> 0 | X43: 0 | Y43: =SUM(Y21:Y42) -> 250912.33
B44: 11. VAT | C44: =Currency -> EUR | D44: =D43*0.25 -> 343818.5 | E44: =IF(E$19>($D$10+$D$11-1),0,"") -> 0 | F44: =IF(F$19>($D$10+$D$11-1),0,"") -> 0 | G44: =IF(G$19>($D$10+$D$11-1),0,"") -> 0 | H44: =IF(H$19>($D$10+$D$11-1),0,"") -> 0 | I44: =IF(I$19>($D$10+$D$11-1),0,"") -> 0 | J44: =IF(J$19>($D$10+$D$11-1),0,"") -> 0 | K44: =IF(K$19>($D$10+$D$11-1),0,"") -> 0 | L44: =IF(L$19>($D$10+$D$11-1),0,"") -> 0 | ... W44: =IF(W$19>($D$10+$D$11-1),0,"") -> 0 | X44: 0 | Y44: =IFERROR((SUM(D44:X44)/SUM(D43:W43))*Y43, 0) -> 62728.081
B45: 12. TOTAL | C45: =Currency -> EUR | D45: =SUM(D43:D44) -> 1719092.5 | E45: =SUM(E43:E44) -> 0 | F45: =SUM(F43:F44) -> 0 | G45: =SUM(G43:G44) -> 0 | H45: =SUM(H43:H44) -> 0 | I45: =SUM(I43:I44) -> 0 | J45: =SUM(J43:J44) -> 0 | K45: =SUM(K43:K44) -> 0 | ... Y45: =SUM(Y43:Y44) -> 313640.41
B47: INELIGIBLE capital expenditure | D47: =D19 -> 2025 | E47: =E19 -> 2026 | F47: =F19 -> 2027 | G47: =G19 -> 2028 | H47: =H19 -> 2029 | I47: =I19 -> 2030 | J47: =J19 -> 2031 | K47: =K19 -> 2032 | ... W47: =W19 -> 2044 | X47: Economic lifetime | Y47: Residual Value
B49: 1. Planning/design fees | C49: =Currency -> EUR | D49: =IF(D$19>($D$10+$D$11-1),0,"") | E49: =IF(E$19>($D$10+$D$11-1),0,"") -> 0 | F49: =IF(F$19>($D$10+$D$11-1),0,"") -> 0 | G49: =IF(G$19>($D$10+$D$11-1),0,"") -> 0 | H49: =IF(H$19>($D$10+$D$11-1),0,"") -> 0 | I49: =IF(I$19>($D$10+$D$11-1),0,"") -> 0 | J49: =IF(J$19>($D$10+$D$11-1),0,"") -> 0 | K49: =IF(K$19>($D$10+$D$11-1),0,"") -> 0 | ... W49: =IF(W$19>($D$10+$D$11-1),0,"") -> 0 | X49: 0 | Y49: =IF(X49>$D$13-$D$11,SUM(D49:W49)*((X49-$D$13+$D$11)/X49),0) -> 0
B50: 2. Land purchase | C50: =Currency -> EUR | D50: =IF(D$19>($D$10+$D$11-1),0,"") | E50: =IF(E$19>($D$10+$D$11-1),0,"") -> 0 | F50: =IF(F$19>($D$10+$D$11-1),0,"") -> 0 | G50: =IF(G$19>($D$10+$D$11-1),0,"") -> 0 | H50: =IF(H$19>($D$10+$D$11-1),0,"") -> 0 | I50: =IF(I$19>($D$10+$D$11-1),0,"") -> 0 | J50: =IF(J$19>($D$10+$D$11-1),0,"") -> 0 | K50: =IF(K$19>($D$10+$D$11-1),0,"") -> 0 | ... W50: =IF(W$19>($D$10+$D$11-1),0,"") -> 0 | X50: 0 | Y50: =IF(X50>$D$13-$D$11,SUM(D50:W50)*((X50-$D$13+$D$11)/X50),0) -> 0
...

Sheet Own Funds
B5: Preparation costs | C5: =Currency -> EUR
B6: Investment plan with socioeconomic asessment | C6: =0.002*Dashboard!C20 -> 3538.185
B7: Other costs | C7: =0.001*Dashboard!C20 -> 1769.0925
B8: Total | C8: =SUM(C6:C7) -> 5307.2775
B10: CAPEX | C10: =Dashboard!C20 -> 1769092.5

Sheet Own funds + Grant
B6: Preparation costs | C6: =Currency -> EUR
B7: Project management and reporting | C7: =0.005*Dashboard!C20 -> 8845.4625
B8: Investment plan with socioeconomic asessment | C8: =0.002*Dashboard!C20 -> 3538.185
B9: Other costs | C9: =0.001*Dashboard!C20 -> 1769.0925
B10: Total | C10: =SUM(C7:C9) -> 14152.74
B12: CAPEX | C12: =Dashboard!C20 -> 1769092.5
B13: Co-financing rate of eligible project costs | C13: =INPUTS!D12 -> 0.5
B14: OWN FUNDS | C14: =C12-SUM(INPUTS!D76:W76)*'Own funds + Grant'!C13 -> 909546.25

Sheet Standard loan
B4: Preparation costs | C4: =Currency -> EUR
B5: Investment plan | C5: =0.002*C10 -> 3538.185
B6: Other costs | C6: =0.001*C10 -> 1769.0925
B7: Total | C7: =SUM(C5:C6) -> 5307.2775
B9: Financing conditions | C9: =Currency -> EUR
B10: Loan Amount | C10: =Dashboard!C20 -> 1769092.5 | E10: Total Interest | F10: =(C13*C12)-C10 -> 521963.22
B11: Rate (Annual) | C11: 0.05 | E11: Total Principal | F11: =C10 -> 1769092.5
B12: Term (Years) | C12: 10 | E12: Total Payments | F12: =SUM(F10:F11) -> 2291055.7
B13: Payment | C13: =PMT(C11,C12,-C10) -> 229105.57 | E13: Check | F13: =C13*C12-F12 -> 0
B17: Loan repayment plan | D17: 1 | E17: =D17+1 -> 2 | F17: =E17+1 -> 3 | G17: =F17+1 -> 4 | H17: =G17+1 -> 5 | I17: =H17+1 -> 6 | J17: =I17+1 -> 7 | K17: =J17+1 -> 8 | L17: =K17+1 -> 9 | ... W17: =V17+1 -> 20
B18: Interest payments | C18: =Currency -> EUR | D18: =IF($C$12>=D17,(($C$13*$C$12)-$C$10)/$C$12,0) -> 52196.322 | E18: =IF($C$12>=E17,(($C$13*$C$12)-$C$10)/$C$12,0) -> 52196.322 | F18: =IF($C$12>=F17,(($C$13*$C$12)-$C$10)/$C$12,0) -> 52196.322 | G18: =IF($C$12>=G17,(($C$13*$C$12)-$C$10)/$C$12,0) -> 52196.322 | H18: =IF($C$12>=H17,(($C$13*$C$12)-$C$10)/$C$12,0) -> 52196.322 | I18: =IF($C$12>=I17,(($C$13*$C$12)-$C$10)/$C$12,0) -> 52196.322 | J18: =IF($C$12>=J17,(($C$13*$C$12)-$C$10)/$C$12,0) -> 52196.322 | K18: =IF($C$12>=K17,(($C$13*$C$12)-$C$10)/$C$12,0) -> 52196.322 | ... W18: =IF($C$12>=W17,(($C$13*$C$12)-$C$10)/$C$12,0) -> 0
B19: Principal repayments | C19: =Currency -> EUR | D19: =IF($C$12>=D17,$C$10/($C$12),0) -> 176909.25 | E19: =IF($C$12>=E17,$C$10/($C$12),0) -> 176909.25 | F19: =IF($C$12>=F17,$C$10/($C$12),0) -> 176909.25 | G19: =IF($C$12>=G17,$C$10/($C$12),0) -> 176909.25 | H19: =IF($C$12>=H17,$C$10/($C$12),0) -> 176909.25 | I19: =IF($C$12>=I17,$C$10/($C$12),0) -> 176909.25 | J19: =IF($C$12>=J17,$C$10/($C$12),0) -> 176909.25 | K19: =IF($C$12>=K17,$C$10/($C$12),0) -> 176909.25 | ... W19: =IF($C$12>=W17,$C$10/($C$12),0) -> 0
B20: Preparation costs | C20: =Currency -> EUR | D20: =C7 -> 5307.2775
B21: Total Payments | C21: =Currency -> EUR | D21: =D18+D19+D20 -> 234412.85 | E21: =E18+E19+E20 -> 229105.57 | F21: =F18+F19+F20 -> 229105.57 | G21: =G18+G19+G20 -> 229105.57 | H21: =H18+H19+H20 -> 229105.57 | I21: =I18+I19+I20 -> 229105.57 | J21: =J18+J19+J20 -> 229105.57 | K21: =K18+K19+K20 -> 229105.57 | ... W21: =W18+W19+W20 -> 0

Sheet Loan + Grant
B5: Preparation costs | C5: =Currency -> EUR
B6: Investment plan | C6: =0.001*C12 -> 909.54625
B7: Project management and reporting | C7: =Dashboard!C20*0.01 -> 17690.925
B8: Other costs | C8: =0.004*C12 -> 3638.185
B9: Total | C9: =SUM(C6:C8) -> 22238.656
B11: Financing conditions | C11: =Currency -> EUR
B12: Loan Amount | C12: =Dashboard!C20-SUM(INPUTS!D76:W76)*'Loan + Grant'!C13 -> 909546.25 | E12: Total Interest | F12: =(C16*C15)-C12 -> 268357.76
B13: Co-financing rate of eligible project costs | C13: =INPUTS!D12 -> 0.5 | E13: Total Principal | F13: =C12 -> 909546.25
B14: Rate (Annual) | C14: 0.05 | E14: Total Payments | F14: =F12+F13 -> 1177904
B15: Term (Years) | C15: 10 | E15: Check | F15: =C16*C15-F14 -> 0
B16: Payment | C16: =PMT(C14,C15,-C12) -> 117790.4
B20: Loan repayment plan | D20: 1 | E20: =D20+1 -> 2 | F20: =E20+1 -> 3 | G20: =F20+1 -> 4 | H20: =G20+1 -> 5 | I20: =H20+1 -> 6 | J20: =I20+1 -> 7 | K20: =J20+1 -> 8 | L20: =K20+1 -> 9 | ... W20: =V20+1 -> 20
B21: Interest payments | C21: =Currency -> EUR | D21: =IF($C$15>=D20,(($C$16*$C$15)-$C$12)/$C$15,0) -> 26835.776 | E21: =IF($C$15>=E20,(($C$16*$C$15)-$C$12)/$C$15,0) -> 26835.776 | F21: =IF($C$15>=F20,(($C$16*$C$15)-$C$12)/$C$15,0) -> 26835.776 | G21: =IF($C$15>=G20,(($C$16*$C$15)-$C$12)/$C$15,0) -> 26835.776 | H21: =IF($C$15>=H20,(($C$16*$C$15)-$C$12)/$C$15,0) -> 26835.776 | I21: =IF($C$15>=I20,(($C$16*$C$15)-$C$12)/$C$15,0) -> 26835.776 | J21: =IF($C$15>=J20,(($C$16*$C$15)-$C$12)/$C$15,0) -> 26835.776 | K21: =IF($C$15>=K20,(($C$16*$C$15)-$C$12)/$C$15,0) -> 26835.776 | ... W21: =IF($C$15>=W20,(($C$16*$C$15)-$C$12)/$C$15,0) -> 0
B22: Principal repayments | C22: =Currency -> EUR | D22: =IF($C$15>=D20,$C$12/($C$15),0) -> 90954.625 | E22: =IF($C$15>=E20,$C$12/($C$15),0) -> 90954.625 | F22: =IF($C$15>=F20,$C$12/($C$15),0) -> 90954.625 | G22: =IF($C$15>=G20,$C$12/($C$15),0) -> 90954.625 | H22: =IF($C$15>=H20,$C$12/($C$15),0) -> 90954.625 | I22: =IF($C$15>=I20,$C$12/($C$15),0) -> 90954.625 | J22: =IF($C$15>=J20,$C$12/($C$15),0) -> 90954.625 | K22: =IF($C$15>=K20,$C$12/($C$15),0) -> 90954.625 | ... W22: =IF($C$15>=W20,$C$12/($C$15),0) -> 0
B23: Preparation costs | C23: =Currency -> EUR | D23: =C9 -> 22238.656
B24: Total Payments | C24: =Currency -> EUR | D24: =D21+D22+D23 -> 140029.06 | E24: =E21+E22+E23 -> 117790.4 | F24: =F21+F22+F23 -> 117790.4 | G24: =G21+G22+G23 -> 117790.4 | H24: =H21+H22+H23 -> 117790.4 | I24: =I21+I22+I23 -> 117790.4 | J24: =J21+J22+J23 -> 117790.4 | K24: =K21+K22+K23 -> 117790.4 | ... W24: =W21+W22+W23 -> 0

Sheet Green loan
B6: Preparation costs | C6: =Currency -> EUR
B7: Investment plan | C7: =0.002*C12 -> 3538.185
B8: Other costs | C8: =0.005*C12 -> 8845.4625
B9: Total | C9: =SUM(C7:C8) -> 12383.647
B11: Financing conditions | C11: =Currency -> EUR
B12: Loan Amount | C12: =Dashboard!C20 -> 1769092.5 | E12: Total Interest | F12: =(C15*C14)-C12 -> 466665.76
B13: Rate (Annual) | C13: 0.045 | E13: Total Principal | F13: =C12 -> 1769092.5
B14: Term (Years) | C14: 10 | E14: Total Payments | F14: =SUM(F12:F13) -> 2235758.3
B15: Payment | C15: =PMT(C13,C14,-C12) -> 223575.83 | E15: Check | F15: =C15*C14-F14 -> 0
B19: Loan repayment plan | D19: 1 | E19: =D19+1 -> 2 | F19: =E19+1 -> 3 | G19: =F19+1 -> 4 | H19: =G19+1 -> 5 | I19: =H19+1 -> 6 | J19: =I19+1 -> 7 | K19: =J19+1 -> 8 | L19: =K19+1 -> 9 | ... W19: =V19+1 -> 20
B20: Interest payments | C20: =Currency -> EUR | D20: =IF($C$14>=D19,(($C$15*$C$14)-$C$12)/$C$14,0) -> 46666.576 | E20: =IF($C$14>=E19,(($C$15*$C$14)-$C$12)/$C$14,0) -> 46666.576 | F20: =IF($C$14>=F19,(($C$15*$C$14)-$C$12)/$C$14,0) -> 46666.576 | G20: =IF($C$14>=G19,(($C$15*$C$14)-$C$12)/$C$14,0) -> 46666.576 | H20: =IF($C$14>=H19,(($C$15*$C$14)-$C$12)/$C$14,0) -> 46666.576 | I20: =IF($C$14>=I19,(($C$15*$C$14)-$C$12)/$C$14,0) -> 46666.576 | J20: =IF($C$14>=J19,(($C$15*$C$14)-$C$12)/$C$14,0) -> 46666.576 | K20: =IF($C$14>=K19,(($C$15*$C$14)-$C$12)/$C$14,0) -> 46666.576 | ... W20: =IF($C$14>=W19,(($C$15*$C$14)-$C$12)/$C$14,0) -> 0
B21: Principal repayments | C21: =Currency -> EUR | D21: =IF($C$14>=D19,$C$12/($C$14),0) -> 176909.25 | E21: =IF($C$14>=E19,$C$12/($C$14),0) -> 176909.25 | F21: =IF($C$14>=F19,$C$12/($C$14),0) -> 176909.25 | G21: =IF($C$14>=G19,$C$12/($C$14),0) -> 176909.25 | H21: =IF($C$14>=H19,$C$12/($C$14),0) -> 176909.25 | I21: =IF($C$14>=I19,$C$12/($C$14),0) -> 176909.25 | J21: =IF($C$14>=J19,$C$12/($C$14),0) -> 176909.25 | K21: =IF($C$14>=K19,$C$12/($C$14),0) -> 176909.25 | ... W21: =IF($C$14>=W19,$C$12/($C$14),0) -> 0
B22: Preparation costs | C22: =Currency -> EUR | D22: =C9 -> 12383.647
B23: Total Payments | C23: =Currency -> EUR | D23: =D20+D21+D22 -> 235959.47 | E23: =E20+E21+E22 -> 223575.83 | F23: =F20+F21+F22 -> 223575.83 | G23: =G20+G21+G22 -> 223575.83 | H23: =H20+H21+H22 -> 223575.83 | I23: =I20+I21+I22 -> 223575.83 | J23: =J20+J21+J22 -> 223575.83 | K23: =K20+K21+K22 -> 223575.83 | ... W23: =W20+W21+W22 -> 0

Sheet Capital rebate loan (FIs)
B4: Preparation costs
B5: Investment plan | C5: =0.002*C11 -> 1819.0925
B6: Other costs | C6: =0.005*C11 -> 4547.7312
B7: Total (EUR) | C7: =SUM(C5:C6) -> 6366.8237
B9: Financing conditions - after rebate
B10: Co-financing rate | C10: =INPUTS!D12 -> 0.5 | E10: Total Interest | F10: =(C14*C13)-C11 -> 268357.76
B11: Loan Amount | C11: =Dashboard!C20-SUM(INPUTS!D76:W76)*'Capital rebate loan (FIs)'!C10 -> 909546.25 | E11: Total Principal | F11: =C11 -> 909546.25
B12: Rate (Annual) | C12: 0.05 | E12: Total Payments | F12: =F10+F11 -> 1177904
B13: Term (Years) | C13: 10 | E13: Check | F13: =C14*C13-F12 -> 0
B14: Payment | C14: =PMT(C12,C13,-C11) -> 117790.4
B18: Loan repayment plan | D18: 1 | E18: =D18+1 -> 2 | F18: =E18+1 -> 3 | G18: =F18+1 -> 4 | H18: =G18+1 -> 5 | I18: =H18+1 -> 6 | J18: =I18+1 -> 7 | K18: =J18+1 -> 8 | L18: =K18+1 -> 9 | ... W18: =V18+1 -> 20
B19: Interest payments | C19: =Currency -> EUR | D19: =IF($C$13>=D18,(($C$14*$C$13)-$C$11)/$C$13,0) -> 26835.776 | E19: =IF($C$13>=E18,(($C$14*$C$13)-$C$11)/$C$13,0) -> 26835.776 | F19: =IF($C$13>=F18,(($C$14*$C$13)-$C$11)/$C$13,0) -> 26835.776 | G19: =IF($C$13>=G18,(($C$14*$C$13)-$C$11)/$C$13,0) -> 26835.776 | H19: =IF($C$13>=H18,(($C$14*$C$13)-$C$11)/$C$13,0) -> 26835.776 | I19: =IF($C$13>=I18,(($C$14*$C$13)-$C$11)/$C$13,0) -> 26835.776 | J19: =IF($C$13>=J18,(($C$14*$C$13)-$C$11)/$C$13,0) -> 26835.776 | K19: =IF($C$13>=K18,(($C$14*$C$13)-$C$11)/$C$13,0) -> 26835.776 | ... W19: =IF($C$13>=W18,(($C$14*$C$13)-$C$11)/$C$13,0) -> 0
B20: Principal repayments | C20: =Currency -> EUR | D20: =IF($C$13>=D18,$C$11/($C$13),0) -> 90954.625 | E20: =IF($C$13>=E18,$C$11/($C$13),0) -> 90954.625 | F20: =IF($C$13>=F18,$C$11/($C$13),0) -> 90954.625 | G20: =IF($C$13>=G18,$C$11/($C$13),0) -> 90954.625 | H20: =IF($C$13>=H18,$C$11/($C$13),0) -> 90954.625 | I20: =IF($C$13>=I18,$C$11/($C$13),0) -> 90954.625 | J20: =IF($C$13>=J18,$C$11/($C$13),0) -> 90954.625 | K20: =IF($C$13>=K18,$C$11/($C$13),0) -> 90954.625 | ... W20: =IF($C$13>=W18,$C$11/($C$13),0) -> 0
B21: Preparation costs | C21: EUR | D21: =C7 -> 6366.8237
B22: Total Payments | C22: EUR | D22: =D19+D20+D21 -> 124157.22 | E22: =E19+E20+E21 -> 117790.4 | F22: =F19+F20+F21 -> 117790.4 | G22: =G19+G20+G21 -> 117790.4 | H22: =H19+H20+H21 -> 117790.4 | I22: =I19+I20+I21 -> 117790.4 | J22: =J19+J20+J21 -> 117790.4 | K22: =K19+K20+K21 -> 117790.4 | ... W22: =W19+W20+W21 -> 0

Sheet Bonds (standard II)
B5: Preparation costs | C5: =Currency -> EUR
B6: Pre-issuance costs (investment advisory, credit and risk rating and legal fees) | C6: =IF(C17<1000000, (50000), (C17*0.013)) -> 22998.202
B7: Issuance costs (underwriting and placement fees, exchange listing, regulatory and depository-settlement fees) | C7: =IF(C17<1000000, (30000), (C17*0.009)) -> 15921.832
B8: Total | C8: =SUM(C6:C7) -> 38920.035
B10: Post-Issuance and ongoing compliance costs
B11: Annual stock exchange and depository | C11: =IF(C17<1000000, (50000), (C17*0.01)) -> 17690.925
B12: External reviews and audits (Post-Issuance) | C12: =IF(C17<1000000, (50000), (C17*0.01)) -> 17690.925
B13: Total (EUR) | C13: =SUM(C11:C12) -> 35381.85
B16: Financing conditions | E16: Total Interest | F16: =(C17*C18)*C20 -> 884546.25
B17: Bond emission | C17: =Dashboard!C20 -> 1769092.5 | E17: Total Principal | F17: =C17 -> 1769092.5
B18: Interest rate/coupon (Annual) | C18: 0.05 | E18: Total Payments | F18: =SUM(F16:F17) -> 2653638.8
B19: Rate (Semiannual) | C19: =+C18/2 -> 0.025
B20: Term (Years) | C20: 10
B23: Repayment Plan | D23: 1 | E23: =D23+1 -> 2 | F23: =E23+1 -> 3 | G23: =F23+1 -> 4 | H23: =G23+1 -> 5 | I23: =H23+1 -> 6 | J23: =I23+1 -> 7 | K23: =J23+1 -> 8 | L23: =K23+1 -> 9 | ... W23: =V23+1 -> 20
B24: Interest payments | C24: =Currency -> EUR | D24: =IF($C$20>=D23,($C$17*$C$18),0) -> 88454.625 | E24: =IF($C$20>=E23,($C$17*$C$18),0) -> 88454.625 | F24: =IF($C$20>=F23,($C$17*$C$18),0) -> 88454.625 | G24: =IF($C$20>=G23,($C$17*$C$18),0) -> 88454.625 | H24: =IF($C$20>=H23,($C$17*$C$18),0) -> 88454.625 | I24: =IF($C$20>=I23,($C$17*$C$18),0) -> 88454.625 | J24: =IF($C$20>=J23,($C$17*$C$18),0) -> 88454.625 | K24: =IF($C$20>=K23,($C$17*$C$18),0) -> 88454.625 | ... W24: =IF($C$20>=W23,($C$17*$C$18),0) -> 0
B25: Principal repayments | C25: =Currency -> EUR | D25: =IF(D23=$C$20, $C$17, 0) -> 0 | E25: =IF(E23=$C$20, $C$17, 0) -> 0 | F25: =IF(F23=$C$20, $C$17, 0) -> 0 | G25: =IF(G23=$C$20, $C$17, 0) -> 0 | H25: =IF(H23=$C$20, $C$17, 0) -> 0 | I25: =IF(I23=$C$20, $C$17, 0) -> 0 | J25: =IF(J23=$C$20, $C$17, 0) -> 0 | K25: =IF(K23=$C$20, $C$17, 0) -> 0 | ... W25: =IF(W23=$C$20, $C$17, 0) -> 0
B26: Preparation costs | C26: EUR | D26: =C8 -> 38920.035
B27: Post-Issuance and ongoing compliance costs | C27: EUR | D27: =IF($C$20>=D23,($C$13),0) -> 35381.85 | E27: =IF($C$20>=E23,($C$13),0) -> 35381.85 | F27: =IF($C$20>=F23,($C$13),0) -> 35381.85 | G27: =IF($C$20>=G23,($C$13),0) -> 35381.85 | H27: =IF($C$20>=H23,($C$13),0) -> 35381.85 | I27: =IF($C$20>=I23,($C$13),0) -> 35381.85 | J27: =IF($C$20>=J23,($C$13),0) -> 35381.85 | K27: =IF($C$20>=K23,($C$13),0) -> 35381.85 | ... W27: =IF($C$20>=W23,($C$13),0) -> 0
B28: Total Payments | C28: EUR | D28: =D24+D25 -> 88454.625 | E28: =E24+E25 -> 88454.625 | F28: =F24+F25 -> 88454.625 | G28: =G24+G25 -> 88454.625 | H28: =H24+H25 -> 88454.625

Sheet Bonds (EuGBS-SLB)
B5: Preparation costs
B6: Pre-issuance costs (investment advisory and legal fees, credit and risk rating, external review and certification) | C6: =IF(C17<1000000, (50000), (C17*0.015)) -> 26536.388
B7: Issuance costs (underwriting and placement fees, exchange listing, regulatory and depository-settlement fees) | C7: =IF(C17<1000000, (30000), (C17*0.01)) -> 17690.925
B8: Total (EUR) | C8: =SUM(C6:C7) -> 44227.312
B10: Post-Issuance and ongoing compliance costs
B11: Annual stock exchange and depository | C11: =IF(C17<1000000, (50000), (C17*0.015)) -> 26536.388
B12: External allocation reviews and audits (Post-Issuance) | C12: =IF(C17<1000000, (50000), (C17*0.015)) -> 26536.388
B13: Total (EUR) | C13: =SUM(C11:C12) -> 53072.775
B16: Financing conditions | E16: Total Interest | F16: =(C17*C18)*C20 -> 849164.4
B17: Bond emission | C17: =Dashboard!C20 -> 1769092.5 | E17: Total Principal | F17: =C17 -> 1769092.5
B18: Interest rate/coupon (Annual) | C18: 0.048 | E18: Total Payments | F18: =SUM(F16:F17) -> 2618256.9
B19: Rate (Semiannual) | C19: =+C18/2 -> 0.024
B20: Term (Years) | C20: 10
B23: Repayment Plan | D23: 1 | E23: =D23+1 -> 2 | F23: =E23+1 -> 3 | G23: =F23+1 -> 4 | H23: =G23+1 -> 5 | I23: =H23+1 -> 6 | J23: =I23+1 -> 7 | K23: =J23+1 -> 8 | L23: =K23+1 -> 9 | ... W23: =V23+1 -> 20
B24: Interest payments | C24: =Currency -> EUR | D24: =IF($C$20>=D23,($C$17*$C$18),0) -> 84916.44 | E24: =IF($C$20>=E23,($C$17*$C$18),0) -> 84916.44 | F24: =IF($C$20>=F23,($C$17*$C$18),0) -> 84916.44 | G24: =IF($C$20>=G23,($C$17*$C$18),0) -> 84916.44 | H24: =IF($C$20>=H23,($C$17*$C$18),0) -> 84916.44 | I24: =IF($C$20>=I23,($C$17*$C$18),0) -> 84916.44 | J24: =IF($C$20>=J23,($C$17*$C$18),0) -> 84916.44 | K24: =IF($C$20>=K23,($C$17*$C$18),0) -> 84916.44 | ... W24: =IF($C$20>=W23,($C$17*$C$18),0) -> 0
B25: Principal repayments | C25: =Currency -> EUR | D25: =IF(D23=$C$20, $C$17, 0) -> 0 | E25: =IF(E23=$C$20, $C$17, 0) -> 0 | F25: =IF(F23=$C$20, $C$17, 0) -> 0 | G25: =IF(G23=$C$20, $C$17, 0) -> 0 | H25: =IF(H23=$C$20, $C$17, 0) -> 0 | I25: =IF(I23=$C$20, $C$17, 0) -> 0 | J25: =IF(J23=$C$20, $C$17, 0) -> 0 | K25: =IF(K23=$C$20, $C$17, 0) -> 0 | ... W25: =IF(W23=$C$20, $C$17, 0) -> 0
B26: Preparation costs | C26: EUR | D26: =C8 -> 44227.312
B27: Post-Issuance and ongoing compliance costs | C27: EUR | D27: =IF($C$20>=D23,($C$13),0) -> 53072.775 | E27: =IF($C$20>=E23,($C$13),0) -> 53072.775 | F27: =IF($C$20>=F23,($C$13),0) -> 53072.775 | G27: =IF($C$20>=G23,($C$13),0) -> 53072.775 | H27: =IF($C$20>=H23,($C$13),0) -> 53072.775 | I27: =IF($C$20>=I23,($C$13),0) -> 53072.775 | J27: =IF($C$20>=J23,($C$13),0) -> 53072.775 | K27: =IF($C$20>=K23,($C$13),0) -> 53072.775 | ... W27: =IF($C$20>=W23,($C$13),0) -> 0
B28: Total Payments | C28: EUR | D28: =D24+D25 -> 84916.44 | E28: =E24+E25 -> 84916.44 | F28: =F24+F25 -> 84916.44 | G28: =G24+G25 -> 84916.44 | H28: =H24+H25 -> 84916.44 | I28: =I24+I25 -> 84916.44 | J28: =J24+J25 -> 84916.44 | K28: =K24+K25 -> 84916.44 | ... W28: =W24+W25 -> 0

Sheet Analiza osjetljivosti
A1: Pokazatelj | B1: Standardno | C1: Povećanje investicijskih troškova (20%) | D1: Smanjenje investicijskih troškova (20%)
A2: FISR (%) | B2: =#REF! -> #REF! | C2: -0.053042822 | D2: -0.022305948
A3: NSV (HRK) | B3: =#REF! -> #REF! | C3: -1039918 | D3: -542418.02
A4: FDVP (god) | B4: 50> | C4: 50> | D4: 50>
A7: Pokazatelj | B7: Standardno | C7: Povećanje cijena energije (20%) | D7: Smanjenje cijena energije (20%)
A8: FISR (%) | B8: =B2 -> #REF! | C8: -0.026492316 | D8: -0.054716002
A9: FNSV (HRK) | B9: =B3 -> #REF! | C9: -707037.54 | D9: -875298.51
A10: FDVP (god) | B10: =B4 -> 50> | C10: 50> | D10: 50>

Sheet Kredit
A1: Maksimalan iznos kredita (kn) | B1: =#REF! -> #REF!
A2: Iznos kredita (kn) | B2: =B1*B3 -> #REF!
A3: Postotak investicije financiran kreditom (%)
A4: Polazna kamatna stopa (%) | B4: 2
A5: Kamatni faktor (r) | B5: =(1+(B4)/100) -> 1.02
A6: Anuitetni faktor (a) | B6: =(POWER(B5,B7)*(B5-1))/(POWER(B5,B7)-1) -> 0.061156718
A7: Razdoblje (g) | B7: 20
A8: Fiksni anuitet (Af) | B8: =B2*B6 -> #REF!
A11: Razdoblje (g) | B11: Anuitet (kn) | C11: Kamata (kn) | D11: Otplatni dio (kn) | E11: Ostatak duga (kn)
A12: 0 | E12: =B1*B3 -> #REF!
A13: 1 | B13: =$B$8 -> #REF! | C13: =($B$4/100)*E12 -> #REF! | D13: =B13-C13 -> #REF! | E13: =E12-D13 -> #REF!
A14: 2 | B14: =$B$8 -> #REF! | C14: =($B$4/100)*E13 -> #REF! | D14: =B14-C14 -> #REF! | E14: =E13-D14 -> #REF!
A15: 3 | B15: =$B$8 -> #REF! | C15: =($B$4/100)*E14 -> #REF! | D15: =B15-C15 -> #REF! | E15: =E14-D15 -> #REF!
A16: 4 | B16: =$B$8 -> #REF! | C16: =($B$4/100)*E15 -> #REF! | D16: =B16-C16 -> #REF! | E16: =E15-D16 -> #REF!
A17: 5 | B17: =$B$8 -> #REF! | C17: =($B$4/100)*E16 -> #REF! | D17: =B17-C17 -> #REF! | E17: =E16-D17 -> #REF!
A18: 6 | B18: =$B$8 -> #REF! | C18: =($B$4/100)*E17 -> #REF! | D18: =B18-C18 -> #REF! | E18: =E17-D18 -> #REF!
A19: 7 | B19: =$B$8 -> #REF! | C19: =($B$4/100)*E18 -> #REF! | D19: =B19-C19 -> #REF! | E19: =E18-D19 -> #REF!
A20: 8 | B20: =$B$8 -> #REF! | C20: =($B$4/100)*E19 -> #REF! | D20: =B20-C20 -> #REF! | E20: =E19-D20 -> #REF!
A21: 9 | B21: =$B$8 -> #REF! | C21: =($B$4/100)*E20 -> #REF! | D21: =B21-C21 -> #REF! | E21: =E20-D21 -> #REF!
A22: 10 | B22: =$B$8 -> #REF! | C22: =($B$4/100)*E21 -> #REF! | D22: =B22-C22 -> #REF! | E22: =E21-D22 -> #REF!
